BEGIN:VCALENDAR
VERSION:2.0
PRODID:-//Little River Raiders - ECPv4.6.11//NONSGML v1.0//EN
CALSCALE:GREGORIAN
METHOD:PUBLISH
X-WR-CALNAME:Little River Raiders
X-ORIGINAL-URL:http://www.littleriverraiders.com.au
X-WR-CALDESC:Events for Little River Raiders
BEGIN:VEVENT
DTSTART;VALUE=DATE:20180309
DTEND;VALUE=DATE:20180313
DTSTAMP:20180226T101710
CREATED:20180206T093009Z
LAST-MODIFIED:20180206T093143Z
UID:805-1520553600-1520899199@www.littleriverraiders.com.au
SUMMARY:Victorian State Titles 2018
DESCRIPTION:Vic State Titles 2018 Flyer and Nomination Form \n
URL:http://www.littleriverraiders.com.au/event/victorian-state-titles-2018/
LOCATION:RIFLE RANGE ROAD\, EAST BENDIGO\, Victoria\, 3550\, Australia
END:VEVENT
BEGIN:VEVENT
DTSTART;TZID=UTC+11:20180707T100000
DTEND;TZID=UTC+11:20180708T140000
DTSTAMP:20180226T101710
CREATED:20171218T045616Z
LAST-MODIFIED:20180215T030402Z
UID:748-1530957600-1531058400@www.littleriverraiders.com.au
SUMMARY:Battle at Walkers Creek
DESCRIPTION:Walkers Creek Flyer 2018         \nWalkers Creek Entry Form 2018 \n
URL:http://www.littleriverraiders.com.au/event/battle-at-walkers-creek/
LOCATION:Gifkins Road\, Little River\, Victoria\, 3211\, Australia
END:VEVENT
END:VCALENDAR